View In:
ArcGIS JavaScript
ArcGIS Online Map Viewer
ArcGIS Earth
Service Description: Pozos3D/UPPER_Carbonera
Name: Pozos3D/UPPER_Carbonera
Description:
Single Fused Map Cache: false
Extent:
XMin: 1315523.9106
YMin: 1252955.6243999992
XMax: 1329143.9106
YMax: 1263495.6243999992
Spatial Reference: 3116
(3116)
Initial Extent:
XMin: 1315523.9106
YMin: 1252955.6243999992
XMax: 1329143.9106
YMax: 1263495.6243999992
Spatial Reference: 3116
(3116)
Full Extent:
XMin: 1315523.9106
YMin: 1252955.6243999992
XMax: 1329143.9106
YMax: 1263495.6243999992
Spatial Reference: 3116
(3116)
Pixel Size X: 20.0
Pixel Size Y: 20.0
Band Count: 1
Pixel Type: F32
RasterFunction Infos: {"rasterFunctionInfos": [{
"name": "None",
"description": "",
"help": ""
}]}
Mensuration Capabilities: Basic
Has Histograms: true
Has Colormap: false
Has Multi Dimensions : false
Rendering Rule:
Min Scale: 0
Max Scale: 0
Copyright Text:
Service Data Type: esriImageServiceDataTypeGeneric
Min Values: -2245.14013671875
Max Values: -1877.558837890625
Mean Values: -2076.122464320063
Standard Deviation Values: 94.41824654110158
Object ID Field:
Fields:
None
Default Mosaic Method: Center
Allowed Mosaic Methods:
SortField:
SortValue: null
Mosaic Operator: First
Default Compression Quality: 75
Default Resampling Method: Bilinear
Max Record Count: null
Max Image Height: 4100
Max Image Width: 15000
Max Download Image Count: null
Max Mosaic Image Count: null
Allow Raster Function: true
Allow Copy: true
Allow Analysis: true
Allow Compute TiePoints: false
Supports Statistics: false
Supports Advanced Queries: false
Use StandardizedQueries: true
Raster Type Infos:
Name: Raster Dataset
Description: Supports all ArcGIS Raster Datasets
Help:
Has Raster Attribute Table: false
Edit Fields Info: null
Ownership Based AccessControl For Rasters: null
Child Resources:
Info
Histograms
Statistics
Key Properties
Legend
Raster Function Infos
Supported Operations:
Export Image
Identify
Measure
Compute Histograms
Compute Statistics Histograms
Get Samples
Compute Class Statistics
Query Boundary
Compute Pixel Location
Compute Angles
Validate
Project