{
 "currentVersion": 11.1,
 "serviceDescription": "Pozos3D/UPPER_Carbonera",
 "name": "Pozos3D/UPPER_Carbonera",
 "description": "",
 "extent": {
  "xmin": 1315523.9106,
  "ymin": 1252955.6243999992,
  "xmax": 1329143.9106,
  "ymax": 1263495.6243999992,
  "spatialReference": {
   "wkid": 3116,
   "latestWkid": 3116
  }
 },
 "initialExtent": {
  "xmin": 1315523.9106,
  "ymin": 1252955.6243999992,
  "xmax": 1329143.9106,
  "ymax": 1263495.6243999992,
  "spatialReference": {
   "wkid": 3116,
   "latestWkid": 3116
  }
 },
 "fullExtent": {
  "xmin": 1315523.9106,
  "ymin": 1252955.6243999992,
  "xmax": 1329143.9106,
  "ymax": 1263495.6243999992,
  "spatialReference": {
   "wkid": 3116,
   "latestWkid": 3116
  }
 },
 "sortableFields": "",
 "bandCount": 1,
 "pixelType": "F32",
 "minValues": [
  -2245.14013671875
 ],
 "maxValues": [
  -1877.558837890625
 ],
 "meanValues": [
  -2076.122464320063
 ],
 "stdvValues": [
  94.41824654110158
 ],
 "hasMultidimensions": false,
 "pixelSizeX": 20,
 "pixelSizeY": 20,
 "datasetFormat": "FGDBR",
 "uncompressedSize": 1435548,
 "blockWidth": 128,
 "blockHeight": 128,
 "compressionType": "NONE",
 "bandNames": [
  "Band_1"
 ],
 "allowCopy": true,
 "allowAnalysis": true,
 "itemAccess": false,
 "minPixelSize": 0,
 "maxPixelSize": 0,
 "copyrightText": "",
 "serviceDataType": "esriImageServiceDataTypeGeneric",
 "serviceSourceType": "esriImageServiceSourceTypeDataset",
 "objectIdField": "",
 "fields": [],
 "capabilities": "Image,Metadata,Mensuration",
 "defaultMosaicMethod": "Center",
 "allowedMosaicMethods": "",
 "sortField": "",
 "sortValue": null,
 "sortAscending": true,
 "mosaicOperator": "First",
 "defaultCompressionQuality": 75,
 "defaultResamplingMethod": "Bilinear",
 "maxImageHeight": 4100,
 "maxImageWidth": 15000,
 "allowRasterFunction": true,
 "rasterFunctionInfos": [
  {
   "name": "None",
   "description": "",
   "help": ""
  }
 ],
 "rasterTypeInfos": [
  {
   "name": "Raster Dataset",
   "description": "Supports all ArcGIS Raster Datasets",
   "help": ""
  }
 ],
 "mensurationCapabilities": "Basic",
 "hasHistograms": true,
 "hasColormap": false,
 "hasRasterAttributeTable": false,
 "minScale": 0,
 "maxScale": 0,
 "exportTilesAllowed": false,
 "supportsStatistics": false,
 "supportsAdvancedQueries": false,
 "editFieldsInfo": null,
 "ownershipBasedAccessControlForRasters": null,
 "allowComputeTiePoints": false,
 "useStandardizedQueries": true,
 "advancedQueryCapabilities": {
  "useStandardizedQueries": true,
  "supportsStatistics": false,
  "supportsOrderBy": false,
  "supportsDistinct": false,
  "supportsPagination": false
 },
 "spatialReference": {
  "wkid": 3116,
  "latestWkid": 3116
 }
}
