View In:
ArcGIS JavaScript
ArcGIS Online Map Viewer
ArcGIS Earth
Service Description: Pozos_3D_DEMSup
Name: Pozos_3D_DEMSup
Description:
Single Fused Map Cache: false
Extent:
XMin: -7928605.130082012
YMin: 767083.0309648506
XMax: -7914838.449013463
YMax: 777861.4093782956
Spatial Reference: 102100
(3857)
Initial Extent:
XMin: -7928605.130082012
YMin: 767083.0309648506
XMax: -7914838.449013463
YMax: 777861.4093782956
Spatial Reference: 102100
(3857)
Full Extent:
XMin: -7928605.130082012
YMin: 767083.0309648506
XMax: -7914838.449013463
YMax: 777861.4093782956
Spatial Reference: 102100
(3857)
Pixel Size X: 30.32308605407254
Pixel Size Y: 30.620393220014442
Band Count: 1
Pixel Type: U8
RasterFunction Infos: {"rasterFunctionInfos": [{
"name": "None",
"description": "",
"help": ""
}]}
Mensuration Capabilities: Basic
Has Histograms: true
Has Colormap: false
Has Multi Dimensions : false
Rendering Rule:
Min Scale: 0
Max Scale: 0
Copyright Text:
Service Data Type: esriImageServiceDataTypeGeneric
Min Values: 128
Max Values: 220
Mean Values: 179.43273075718207
Standard Deviation Values: 6.874052115165783
Object ID Field:
Fields:
None
Default Mosaic Method: Center
Allowed Mosaic Methods:
SortField:
SortValue: null
Mosaic Operator: First
Default Compression Quality: 75
Default Resampling Method: Bilinear
Max Record Count: null
Max Image Height: 4100
Max Image Width: 15000
Max Download Image Count: null
Max Mosaic Image Count: null
Allow Raster Function: true
Allow Copy: true
Allow Analysis: true
Allow Compute TiePoints: false
Supports Statistics: false
Supports Advanced Queries: false
Use StandardizedQueries: true
Raster Type Infos:
Name: Raster Dataset
Description: Supports all ArcGIS Raster Datasets
Help:
Has Raster Attribute Table: true
Edit Fields Info: null
Ownership Based AccessControl For Rasters: null
Child Resources:
Info
Raster Attribute Table
Histograms
Statistics
Key Properties
Legend
Raster Function Infos
Supported Operations:
Export Image
Identify
Measure
Compute Histograms
Compute Statistics Histograms
Get Samples
Compute Class Statistics
Query Boundary
Compute Pixel Location
Compute Angles
Validate
Project