View In:
ArcGIS JavaScript
ArcGIS Online Map Viewer
ArcGIS Earth
Service Description: Pozos3D/UpperCarbonera
Name: Pozos3D/UpperCarbonera
Description:
Single Fused Map Cache: false
Extent:
XMin: -7928605.070979443
YMin: 767093.0006012078
XMax: -7914838.513480453
YMax: 777851.1257085049
Spatial Reference: 102100
(3857)
Initial Extent:
XMin: -7928605.070979443
YMin: 767093.0006012078
XMax: -7914838.513480453
YMax: 777851.1257085049
Spatial Reference: 102100
(3857)
Full Extent:
XMin: -7928605.070979443
YMin: 767093.0006012078
XMax: -7914838.513480453
YMax: 777851.1257085049
Spatial Reference: 102100
(3857)
Pixel Size X: 20.21520924961903
Pixel Size Y: 20.41389963433983
Band Count: 1
Pixel Type: U8
RasterFunction Infos: {"rasterFunctionInfos": [
{
"name": "None",
"description": "Make a Raster or Raster Dataset into a Function Raster Dataset.",
"help": ""
},
{
"name": "UPPER Carbonera",
"description": "UPPER Carbonera",
"help": ""
}
]}
Mensuration Capabilities: Basic
Has Histograms: false
Has Colormap: false
Has Multi Dimensions : false
Rendering Rule:
Min Scale: 0
Max Scale: 0
Copyright Text:
Service Data Type: esriImageServiceDataTypeGeneric
Min Values: N/A
Max Values: N/A
Mean Values: N/A
Standard Deviation Values: N/A
Object ID Field:
Fields:
None
Default Mosaic Method: Center
Allowed Mosaic Methods:
SortField:
SortValue: null
Mosaic Operator: First
Default Compression Quality: 75
Default Resampling Method: Bilinear
Max Record Count: null
Max Image Height: 4100
Max Image Width: 15000
Max Download Image Count: null
Max Mosaic Image Count: null
Allow Raster Function: true
Allow Copy: true
Allow Analysis: true
Allow Compute TiePoints: false
Supports Statistics: false
Supports Advanced Queries: false
Use StandardizedQueries: true
Raster Type Infos:
Name: Raster Dataset
Description: Supports all ArcGIS Raster Datasets
Help:
Has Raster Attribute Table: false
Edit Fields Info: null
Ownership Based AccessControl For Rasters: null
Child Resources:
Info
Statistics
Key Properties
Legend
Raster Function Infos
Supported Operations:
Export Image
Identify
Measure
Compute Histograms
Compute Statistics Histograms
Get Samples
Compute Class Statistics
Query Boundary
Compute Pixel Location
Compute Angles
Validate
Project