{
 "currentVersion": 11.1,
 "serviceDescription": "pruebaimagen/FavorabilidadGeotermicaEstirada",
 "name": "pruebaimagen/FavorabilidadGeotermicaEstirada",
 "description": "",
 "extent": {
  "xmin": 4945800,
  "ymin": 2125000,
  "xmax": 5124800,
  "ymax": 2585200,
  "spatialReference": {
   "wkt": "PROJCS[\"MAGNA-SIRGAS_2018_Origen-Nacional\",GEOGCS[\"MAGNA-SIRGAS_2018\",DATUM[\"Marco_Geocentrico_Nacional_de_Referencia_2018\",SPHEROID[\"GRS_1980\",6378137.0,298.257222101]],PRIMEM[\"Greenwich\",0.0],UNIT[\"Degree\",0.0174532925199433]],PROJECTION[\"Transverse_Mercator\"],PARAMETER[\"False_Easting\",5000000.0],PARAMETER[\"False_Northing\",2000000.0],PARAMETER[\"Central_Meridian\",-73.0],PARAMETER[\"Scale_Factor\",0.9992],PARAMETER[\"Latitude_Of_Origin\",4.0],UNIT[\"Meter\",1.0]]"
  }
 },
 "initialExtent": {
  "xmin": 4945800,
  "ymin": 2125000,
  "xmax": 5124800,
  "ymax": 2585200,
  "spatialReference": {
   "wkt": "PROJCS[\"MAGNA-SIRGAS_2018_Origen-Nacional\",GEOGCS[\"MAGNA-SIRGAS_2018\",DATUM[\"Marco_Geocentrico_Nacional_de_Referencia_2018\",SPHEROID[\"GRS_1980\",6378137.0,298.257222101]],PRIMEM[\"Greenwich\",0.0],UNIT[\"Degree\",0.0174532925199433]],PROJECTION[\"Transverse_Mercator\"],PARAMETER[\"False_Easting\",5000000.0],PARAMETER[\"False_Northing\",2000000.0],PARAMETER[\"Central_Meridian\",-73.0],PARAMETER[\"Scale_Factor\",0.9992],PARAMETER[\"Latitude_Of_Origin\",4.0],UNIT[\"Meter\",1.0]]"
  }
 },
 "fullExtent": {
  "xmin": 4945800,
  "ymin": 2125000,
  "xmax": 5124800,
  "ymax": 2585200,
  "spatialReference": {
   "wkt": "PROJCS[\"MAGNA-SIRGAS_2018_Origen-Nacional\",GEOGCS[\"MAGNA-SIRGAS_2018\",DATUM[\"Marco_Geocentrico_Nacional_de_Referencia_2018\",SPHEROID[\"GRS_1980\",6378137.0,298.257222101]],PRIMEM[\"Greenwich\",0.0],UNIT[\"Degree\",0.0174532925199433]],PROJECTION[\"Transverse_Mercator\"],PARAMETER[\"False_Easting\",5000000.0],PARAMETER[\"False_Northing\",2000000.0],PARAMETER[\"Central_Meridian\",-73.0],PARAMETER[\"Scale_Factor\",0.9992],PARAMETER[\"Latitude_Of_Origin\",4.0],UNIT[\"Meter\",1.0]]"
  }
 },
 "sortableFields": "",
 "bandCount": 1,
 "pixelType": "F32",
 "minValues": [
  0
 ],
 "maxValues": [
  10
 ],
 "meanValues": [
  2.5852487100108883
 ],
 "stdvValues": [
  1.3415935512254755
 ],
 "hasMultidimensions": false,
 "pixelSizeX": 200,
 "pixelSizeY": 200,
 "datasetFormat": "SDR",
 "uncompressedSize": 8237580,
 "blockWidth": 128,
 "blockHeight": 128,
 "compressionType": "LZ77",
 "bandNames": [
  "Band_1"
 ],
 "allowCopy": true,
 "allowAnalysis": true,
 "itemAccess": false,
 "minPixelSize": 0,
 "maxPixelSize": 0,
 "copyrightText": "",
 "serviceDataType": "esriImageServiceDataTypeGeneric",
 "serviceSourceType": "esriImageServiceSourceTypeDataset",
 "objectIdField": "",
 "fields": [],
 "capabilities": "Image,Metadata,Mensuration",
 "defaultMosaicMethod": "Center",
 "allowedMosaicMethods": "",
 "sortField": "",
 "sortValue": null,
 "sortAscending": true,
 "mosaicOperator": "First",
 "defaultCompressionQuality": 75,
 "defaultResamplingMethod": "Bilinear",
 "maxImageHeight": 4100,
 "maxImageWidth": 15000,
 "allowRasterFunction": true,
 "rasterFunctionInfos": [
  {
   "name": "simbologiaimagen",
   "description": "prueba",
   "help": ""
  },
  {
   "name": "None",
   "description": "",
   "help": ""
  }
 ],
 "rasterTypeInfos": [
  {
   "name": "Raster Dataset",
   "description": "Supports all ArcGIS Raster Datasets",
   "help": ""
  }
 ],
 "mensurationCapabilities": "Basic",
 "hasHistograms": true,
 "hasColormap": false,
 "hasRasterAttributeTable": false,
 "minScale": 0,
 "maxScale": 0,
 "exportTilesAllowed": false,
 "supportsStatistics": false,
 "supportsAdvancedQueries": false,
 "editFieldsInfo": null,
 "ownershipBasedAccessControlForRasters": null,
 "allowComputeTiePoints": false,
 "useStandardizedQueries": true,
 "advancedQueryCapabilities": {
  "useStandardizedQueries": true,
  "supportsStatistics": false,
  "supportsOrderBy": false,
  "supportsDistinct": false,
  "supportsPagination": false
 },
 "spatialReference": {
  "wkt": "PROJCS[\"MAGNA-SIRGAS_2018_Origen-Nacional\",GEOGCS[\"MAGNA-SIRGAS_2018\",DATUM[\"Marco_Geocentrico_Nacional_de_Referencia_2018\",SPHEROID[\"GRS_1980\",6378137.0,298.257222101]],PRIMEM[\"Greenwich\",0.0],UNIT[\"Degree\",0.0174532925199433]],PROJECTION[\"Transverse_Mercator\"],PARAMETER[\"False_Easting\",5000000.0],PARAMETER[\"False_Northing\",2000000.0],PARAMETER[\"Central_Meridian\",-73.0],PARAMETER[\"Scale_Factor\",0.9992],PARAMETER[\"Latitude_Of_Origin\",4.0],UNIT[\"Meter\",1.0]]"
 }
}
