{
 "currentVersion": 11.1,
 "serviceDescription": "BancoImagenes/GDB_RASTER_ENMAP01",
 "name": "BancoImagenes/GDB_RASTER_ENMAP01",
 "description": "",
 "extent": {
  "xmin": -72.22001578663166,
  "ymin": 11.546753760731873,
  "xmax": -71.74428411463167,
  "ymax": 12.405970820731874,
  "spatialReference": {
   "wkid": 4326,
   "latestWkid": 4326
  }
 },
 "initialExtent": {
  "xmin": -72.22001578663166,
  "ymin": 11.546753760731873,
  "xmax": -71.74428411463167,
  "ymax": 12.405970820731874,
  "spatialReference": {
   "wkid": 4326,
   "latestWkid": 4326
  }
 },
 "fullExtent": {
  "xmin": -72.22001578663166,
  "ymin": 11.546753760731873,
  "xmax": -71.74428411463167,
  "ymax": 12.405970820731874,
  "spatialReference": {
   "wkid": 4326,
   "latestWkid": 4326
  }
 },
 "sortableFields": "MinPS,MaxPS,LowPS,HighPS,CenterX,CenterY,ZOrder,Shape.STArea(),Shape.STLength()",
 "bandCount": 133,
 "pixelType": "U16",
 "minValues": [
  128.99609375,
  128.99609375,
  128.99609375,
  128.99609375,
  128.99609375,
  128.99609375,
  128.99609375,
  128.99609375,
  128.99609375,
  128.99609375,
  128.99609375,
  128.99609375,
  128.99609375,
  128.99609375,
  128.99609375,
  128.99609375,
  128.99609375,
  128.99609375,
  128.99609375,
  128.99609375,
  128.99609375,
  128.99609375,
  128.99609375,
  128.99609375,
  128.99609375,
  128.99609375,
  128.99609375,
  128.99609375,
  128.99609375,
  128.99609375,
  128.99609375,
  128.99609375,
  128.99609375,
  128.99609375,
  128.99609375,
  128.99609375,
  128.99609375,
  128.99609375,
  128.99609375,
  128.99609375,
  128.99609375,
  128.99609375,
  128.99609375,
  128.99609375,
  128.99609375,
  128.99609375,
  128.99609375,
  128.99609375,
  128.99609375,
  128.99609375,
  128.99609375,
  128.99609375,
  128.99609375,
  128.99609375,
  128.99609375,
  128.99609375,
  128.99609375,
  128.99609375,
  128.99609375,
  128.99609375,
  128.99609375,
  128.99609375,
  128.99609375,
  128.99609375,
  128.99609375,
  128.99609375,
  128.99609375,
  128.99609375,
  128.99609375,
  128.99609375,
  128.99609375,
  128.99609375,
  128.99609375,
  128.99609375,
  128.99609375,
  128.99609375,
  128.99609375,
  128.99609375,
  128.99609375,
  128.99609375,
  128.99609375,
  128.99609375,
  128.99609375,
  128.99609375,
  128.99609375,
  128.99609375,
  128.99609375,
  128.99609375,
  128.99609375,
  128.99609375,
  128.99609375,
  128.99609375,
  128.99609375,
  128.99609375,
  128.99609375,
  128.99609375,
  128.99609375,
  128.99609375,
  128.99609375,
  128.99609375,
  128.99609375,
  128.99609375,
  128.99609375,
  128.99609375,
  128.99609375,
  128.99609375,
  128.99609375,
  128.99609375,
  128.99609375,
  128.99609375,
  128.99609375,
  128.99609375,
  128.99609375,
  128.99609375,
  128.99609375,
  128.99609375,
  128.99609375,
  128.99609375,
  128.99609375,
  128.99609375,
  128.99609375,
  128.99609375,
  128.99609375,
  128.99609375,
  128.99609375,
  128.99609375,
  128.99609375,
  128.99609375,
  128.99609375,
  128.99609375,
  128.99609375,
  128.99609375,
  128.99609375
 ],
 "maxValues": [
  65407.00390625,
  65407.00390625,
  65407.00390625,
  65407.00390625,
  65407.00390625,
  65407.00390625,
  65407.00390625,
  65407.00390625,
  65407.00390625,
  65407.00390625,
  65407.00390625,
  65407.00390625,
  65407.00390625,
  65407.00390625,
  65407.00390625,
  65407.00390625,
  65407.00390625,
  65407.00390625,
  65407.00390625,
  65407.00390625,
  65407.00390625,
  65407.00390625,
  65407.00390625,
  65407.00390625,
  65407.00390625,
  65407.00390625,
  65407.00390625,
  65407.00390625,
  65407.00390625,
  65407.00390625,
  65407.00390625,
  65407.00390625,
  65407.00390625,
  65407.00390625,
  65407.00390625,
  65407.00390625,
  65407.00390625,
  65407.00390625,
  65407.00390625,
  65407.00390625,
  65407.00390625,
  65407.00390625,
  65407.00390625,
  65407.00390625,
  65407.00390625,
  65407.00390625,
  65407.00390625,
  65407.00390625,
  65407.00390625,
  65407.00390625,
  65407.00390625,
  65407.00390625,
  65407.00390625,
  65407.00390625,
  65407.00390625,
  65407.00390625,
  65407.00390625,
  65407.00390625,
  65407.00390625,
  65407.00390625,
  65407.00390625,
  65407.00390625,
  65407.00390625,
  65407.00390625,
  65407.00390625,
  65407.00390625,
  65407.00390625,
  65407.00390625,
  65407.00390625,
  65407.00390625,
  65407.00390625,
  65407.00390625,
  65407.00390625,
  65407.00390625,
  65407.00390625,
  65407.00390625,
  65407.00390625,
  65407.00390625,
  65407.00390625,
  65407.00390625,
  65407.00390625,
  65407.00390625,
  65407.00390625,
  65407.00390625,
  65407.00390625,
  65407.00390625,
  65407.00390625,
  65407.00390625,
  65407.00390625,
  65407.00390625,
  65407.00390625,
  65407.00390625,
  65407.00390625,
  65407.00390625,
  65407.00390625,
  65407.00390625,
  65407.00390625,
  65407.00390625,
  65407.00390625,
  65407.00390625,
  65407.00390625,
  65407.00390625,
  65407.00390625,
  65407.00390625,
  65407.00390625,
  65407.00390625,
  65407.00390625,
  65407.00390625,
  65407.00390625,
  65407.00390625,
  65407.00390625,
  65407.00390625,
  65407.00390625,
  65407.00390625,
  65407.00390625,
  65407.00390625,
  65407.00390625,
  65407.00390625,
  65407.00390625,
  65407.00390625,
  65407.00390625,
  65407.00390625,
  65407.00390625,
  65407.00390625,
  65407.00390625,
  65407.00390625,
  65407.00390625,
  65407.00390625,
  65407.00390625,
  65407.00390625,
  65407.00390625,
  65407.00390625,
  65407.00390625
 ],
 "meanValues": [
  14985.400698424577,
  14149.768200683511,
  14698.25771160155,
  10875.044640365333,
  8753.011151664849,
  9172.405352378812,
  11686.176385833962,
  14682.225700874438,
  16375.348029303683,
  17970.270104660114,
  18322.112866943862,
  18483.98867673485,
  18664.958403808698,
  18833.423512504927,
  18996.962771529783,
  19056.030218879274,
  18931.741511985496,
  18646.657962310717,
  17682.52438623047,
  14928.376188728496,
  10633.124273414733,
  8029.722975341862,
  8628.646947074996,
  9189.951566894504,
  14024.809764228787,
  16641.45840801243,
  16999.81147161128,
  17866.532770568498,
  18315.41657130467,
  19393.09868205189,
  20085.67979550921,
  20256.674826996004,
  20314.313317954988,
  20185.823239280606,
  20479.91651399202,
  19538.244752410625,
  17864.545831206822,
  16083.350940620241,
  12591.55475503567,
  10221.353340049762,
  13291.809134315652,
  15618.151887802007,
  13737.170542549278,
  14344.881746108887,
  11735.826370590112,
  11197.595796585265,
  11677.950636871781,
  12367.489093185835,
  18892.036973708935,
  19310.209461707873,
  19322.1075985946,
  19323.254063605866,
  19274.26755860132,
  19380.46981746693,
  19479.94653158543,
  19589.814678573464,
  19630.324442276156,
  19797.511339980796,
  19931.574998557975,
  20002.042347999362,
  19974.664683525312,
  20077.543043831134,
  20189.37313094309,
  20130.486428077656,
  20092.865826202797,
  20097.842924308636,
  20233.74227686354,
  20047.391714004254,
  19988.8979991454,
  19987.15880222268,
  20029.51250965155,
  20077.29480140636,
  19220.895937423742,
  17000.747943031292,
  14384.716530410506,
  20117.875062957657,
  19920.600833472578,
  19376.202447701085,
  19047.84321873438,
  22192.57799611586,
  20569.68127450511,
  19500.761896332264,
  18802.563204314887,
  18506.53348870087,
  18299.107319038587,
  18657.66512638842,
  18627.129558287965,
  18354.753120811252,
  18381.524303794828,
  18384.873201592323,
  18490.961463936193,
  18325.876252090216,
  18434.003202217318,
  18518.70711717944,
  18362.09639670582,
  18344.407936531188,
  18596.025507537754,
  18594.224562499756,
  18553.135566475168,
  18574.94090100867,
  19214.67687722005,
  18991.75493046532,
  18916.105739166822,
  19139.431923584016,
  18861.836145392666,
  18947.738023795915,
  18824.92977172013,
  19035.66534038559,
  18517.22566239143,
  18602.20756886995,
  18276.443510704175,
  18636.527771469235,
  18632.721387634127,
  18672.431925727804,
  18581.370204796254,
  18358.75149878743,
  18196.43445246187,
  18657.10089360832,
  18264.61237177296,
  17027.3203820806,
  17026.998891891493,
  18320.55616445183,
  16548.129506271525,
  15911.89067333227,
  14795.683988297265,
  15059.896424926894,
  15582.460977035678,
  14152.243875129694,
  11409.56932746885,
  12853.502510780407,
  13831.893901733314,
  13444.997959221146,
  10528.517465858327
 ],
 "stdvValues": [
  12848.915667434554,
  12076.95535853521,
  12567.169268467254,
  8947.343144959841,
  6764.2431193302555,
  7318.203265863111,
  9766.251692236776,
  12606.28450035296,
  14111.575485319476,
  15601.96081617915,
  15860.662094015144,
  16010.872673217105,
  16132.563732996621,
  16301.839968860415,
  16408.553216920973,
  16452.30679051162,
  16340.673166271177,
  16083.964202303225,
  15270.92431604344,
  12776.720951335457,
  8586.954159749204,
  5328.374077291563,
  6549.558714600886,
  7322.912257484138,
  12079.358160159214,
  14474.89607989355,
  14839.251129363276,
  15519.39832182451,
  16074.938795016142,
  17024.201664874618,
  17645.992980227828,
  17775.967666761637,
  17821.52920100016,
  17678.67095685964,
  18005.431963844298,
  17177.60233167852,
  15676.242292791254,
  13790.035592016182,
  10643.567450577533,
  8143.2686471182815,
  6882.4596461820975,
  6382.644705792726,
  6725.254635133364,
  6781.987143907806,
  6578.2908782141985,
  8232.96657541146,
  8236.807793239923,
  10124.780534781845,
  16968.858806928754,
  17618.344627853003,
  17604.735001312194,
  17671.821491861214,
  17620.088183131214,
  17683.59715170603,
  17764.979296050336,
  17805.41478848611,
  17816.59845149535,
  17957.964047453992,
  18089.14252590866,
  18150.92964959716,
  18101.233589229796,
  18179.444690011453,
  18223.89844010256,
  18228.331530586183,
  18222.850921286,
  18216.604377309264,
  18121.081186769734,
  18104.244995597433,
  18079.68427324615,
  18018.82179527222,
  18121.194832963713,
  18066.962898425507,
  17294.61251888474,
  15143.120803287407,
  12527.10172957124,
  16298.813593249164,
  17293.26800592317,
  17485.176792330247,
  17121.08823339858,
  15921.379182528002,
  16479.4464340946,
  17418.773449488883,
  17419.87993144772,
  17246.284371908845,
  16851.98292574193,
  17242.707805449656,
  17171.958837661878,
  17083.82913836088,
  17179.67779406776,
  17086.83755622932,
  17228.714496456967,
  17032.168541745672,
  17104.998464150845,
  17114.677918181365,
  17062.54767180689,
  17003.42834787782,
  17102.53140085507,
  17064.944598713282,
  17125.448087883822,
  17015.54291014192,
  16812.028549803043,
  17235.321032627027,
  17241.68255417918,
  17401.937346814855,
  17241.79092032199,
  17292.609275268554,
  17109.94610782076,
  16861.421547473095,
  16935.532798786,
  16836.01761045578,
  16714.986730732675,
  16963.52221708863,
  16917.58761612377,
  16908.80261264632,
  16764.21814625817,
  16561.60767876552,
  16063.847771938008,
  16582.735240358088,
  15995.502800893531,
  14940.21564217588,
  14238.869745679736,
  15717.00728593304,
  13993.672008788959,
  13058.87359650922,
  10908.612245443528,
  12471.94235125145,
  12726.415835322547,
  9988.559140799092,
  7912.596903615047,
  9308.095720669557,
  10831.491032778618,
  9944.24517507368,
  7856.396781885131
 ],
 "hasMultidimensions": false,
 "pixelSizeX": 3.085159999999967E-4,
 "pixelSizeY": 3.085160000000002E-4,
 "datasetFormat": "AMD",
 "uncompressedSize": 1142329020,
 "blockWidth": 2048,
 "blockHeight": 256,
 "compressionType": "None",
 "bandNames": [
  "Band_1",
  "Band_2",
  "Band_3",
  "Band_4",
  "Band_5",
  "Band_6",
  "Band_7",
  "Band_8",
  "Band_9",
  "Band_10",
  "Band_11",
  "Band_12",
  "Band_13",
  "Band_14",
  "Band_15",
  "Band_16",
  "Band_17",
  "Band_18",
  "Band_19",
  "Band_20",
  "Band_21",
  "Band_22",
  "Band_23",
  "Band_24",
  "Band_25",
  "Band_26",
  "Band_27",
  "Band_28",
  "Band_29",
  "Band_30",
  "Band_31",
  "Band_32",
  "Band_33",
  "Band_34",
  "Band_35",
  "Band_36",
  "Band_37",
  "Band_38",
  "Band_39",
  "Band_40",
  "Band_41",
  "Band_42",
  "Band_43",
  "Band_44",
  "Band_45",
  "Band_46",
  "Band_47",
  "Band_48",
  "Band_49",
  "Band_50",
  "Band_51",
  "Band_52",
  "Band_53",
  "Band_54",
  "Band_55",
  "Band_56",
  "Band_57",
  "Band_58",
  "Band_59",
  "Band_60",
  "Band_61",
  "Band_62",
  "Band_63",
  "Band_64",
  "Band_65",
  "Band_66",
  "Band_67",
  "Band_68",
  "Band_69",
  "Band_70",
  "Band_71",
  "Band_72",
  "Band_73",
  "Band_74",
  "Band_75",
  "Band_76",
  "Band_77",
  "Band_78",
  "Band_79",
  "Band_80",
  "Band_81",
  "Band_82",
  "Band_83",
  "Band_84",
  "Band_85",
  "Band_86",
  "Band_87",
  "Band_88",
  "Band_89",
  "Band_90",
  "Band_91",
  "Band_92",
  "Band_93",
  "Band_94",
  "Band_95",
  "Band_96",
  "Band_97",
  "Band_98",
  "Band_99",
  "Band_100",
  "Band_101",
  "Band_102",
  "Band_103",
  "Band_104",
  "Band_105",
  "Band_106",
  "Band_107",
  "Band_108",
  "Band_109",
  "Band_110",
  "Band_111",
  "Band_112",
  "Band_113",
  "Band_114",
  "Band_115",
  "Band_116",
  "Band_117",
  "Band_118",
  "Band_119",
  "Band_120",
  "Band_121",
  "Band_122",
  "Band_123",
  "Band_124",
  "Band_125",
  "Band_126",
  "Band_127",
  "Band_128",
  "Band_129",
  "Band_130",
  "Band_131",
  "Band_132",
  "Band_133"
 ],
 "allowCopy": true,
 "allowAnalysis": true,
 "itemAccess": false,
 "minPixelSize": 0,
 "maxPixelSize": 0,
 "copyrightText": "",
 "serviceDataType": "esriImageServiceDataTypeGeneric",
 "serviceSourceType": "esriImageServiceSourceTypeMosaicDataset",
 "objectIdField": "OBJECTID",
 "fields": [
  {
   "name": "OBJECTID",
   "type": "esriFieldTypeOID",
   "alias": "OBJECTID",
   "domain": null
  },
  {
   "name": "Name",
   "type": "esriFieldTypeString",
   "alias": "Name",
   "domain": null,
   "length": 200
  },
  {
   "name": "MinPS",
   "type": "esriFieldTypeDouble",
   "alias": "MinPS",
   "domain": null
  },
  {
   "name": "MaxPS",
   "type": "esriFieldTypeDouble",
   "alias": "MaxPS",
   "domain": null
  },
  {
   "name": "LowPS",
   "type": "esriFieldTypeDouble",
   "alias": "LowPS",
   "domain": null
  },
  {
   "name": "HighPS",
   "type": "esriFieldTypeDouble",
   "alias": "HighPS",
   "domain": null
  },
  {
   "name": "Category",
   "type": "esriFieldTypeInteger",
   "alias": "Category",
   "domain": {
    "type": "codedValue",
    "name": "MosaicCatalogItemCategoryDomain",
    "description": "Catalog item categories.",
    "codedValues": [
     {
      "name": "Unknown",
      "code": 0
     },
     {
      "name": "Primary",
      "code": 1
     },
     {
      "name": "Overview",
      "code": 2
     },
     {
      "name": "Unprocessed Overview",
      "code": 3
     },
     {
      "name": "Partial Overview",
      "code": 4
     },
     {
      "name": "Inactive",
      "code": 5
     },
     {
      "name": "Uploaded",
      "code": 253
     },
     {
      "name": "Incomplete",
      "code": 254
     },
     {
      "name": "Custom",
      "code": 255
     }
    ],
    "mergePolicy": "esriMPTDefaultValue",
    "splitPolicy": "esriSPTDefaultValue"
   }
  },
  {
   "name": "Tag",
   "type": "esriFieldTypeString",
   "alias": "Tag",
   "domain": null,
   "length": 100
  },
  {
   "name": "GroupName",
   "type": "esriFieldTypeString",
   "alias": "GroupName",
   "domain": null,
   "length": 100
  },
  {
   "name": "ProductName",
   "type": "esriFieldTypeString",
   "alias": "ProductName",
   "domain": null,
   "length": 100
  },
  {
   "name": "CenterX",
   "type": "esriFieldTypeDouble",
   "alias": "CenterX",
   "domain": null
  },
  {
   "name": "CenterY",
   "type": "esriFieldTypeDouble",
   "alias": "CenterY",
   "domain": null
  },
  {
   "name": "ZOrder",
   "type": "esriFieldTypeInteger",
   "alias": "ZOrder",
   "domain": null
  },
  {
   "name": "Shape",
   "type": "esriFieldTypeGeometry",
   "alias": "Shape",
   "domain": null
  }
 ],
 "capabilities": "Image,Metadata,Catalog",
 "defaultMosaicMethod": "Northwest",
 "allowedMosaicMethods": "NorthWest,Center,LockRaster,ByAttribute,Nadir,Viewpoint,Seamline,None",
 "sortField": "",
 "sortValue": null,
 "sortAscending": true,
 "mosaicOperator": "First",
 "maxDownloadSizeLimit": 2048,
 "defaultCompressionQuality": 75,
 "defaultResamplingMethod": "Bilinear",
 "maxImageHeight": 4100,
 "maxImageWidth": 15000,
 "maxRecordCount": 1000,
 "maxDownloadImageCount": 20,
 "maxMosaicImageCount": 20,
 "allowRasterFunction": true,
 "rasterFunctionInfos": [
  {
   "name": "None",
   "description": "",
   "help": ""
  }
 ],
 "rasterTypeInfos": [
  {
   "name": "Raster Dataset",
   "description": "Supports all ArcGIS Raster Datasets",
   "help": ""
  }
 ],
 "mensurationCapabilities": "None",
 "hasHistograms": true,
 "hasColormap": false,
 "hasRasterAttributeTable": false,
 "minScale": 0,
 "maxScale": 0,
 "exportTilesAllowed": false,
 "supportsStatistics": true,
 "supportsAdvancedQueries": true,
 "editFieldsInfo": null,
 "ownershipBasedAccessControlForRasters": null,
 "allowComputeTiePoints": false,
 "useStandardizedQueries": true,
 "advancedQueryCapabilities": {
  "useStandardizedQueries": true,
  "supportsStatistics": true,
  "supportsOrderBy": true,
  "supportsDistinct": true,
  "supportsPagination": true
 },
 "spatialReference": {
  "wkid": 4326,
  "latestWkid": 4326
 }
}
